BEGIN:VCALENDAR
VERSION:2.0
PRODID:-//Lakshmi - ECPv6.15.20//NONSGML v1.0//EN
CALSCALE:GREGORIAN
METHOD:PUBLISH
X-ORIGINAL-URL:https://www.lakshmi.nl
X-WR-CALDESC:Evenementen voor Lakshmi
REFRESH-INTERVAL;VALUE=DURATION:PT1H
X-Robots-Tag:noindex
X-PUBLISHED-TTL:PT1H
BEGIN:VTIMEZONE
TZID:Europe/Amsterdam
BEGIN:DAYLIGHT
TZOFFSETFROM:+0100
TZOFFSETTO:+0200
TZNAME:CEST
DTSTART:20250330T010000
END:DAYLIGHT
BEGIN:STANDARD
TZOFFSETFROM:+0200
TZOFFSETTO:+0100
TZNAME:CET
DTSTART:20251026T010000
END:STANDARD
BEGIN:DAYLIGHT
TZOFFSETFROM:+0100
TZOFFSETTO:+0200
TZNAME:CEST
DTSTART:20260329T010000
END:DAYLIGHT
BEGIN:STANDARD
TZOFFSETFROM:+0200
TZOFFSETTO:+0100
TZNAME:CET
DTSTART:20261025T010000
END:STANDARD
BEGIN:DAYLIGHT
TZOFFSETFROM:+0100
TZOFFSETTO:+0200
TZNAME:CEST
DTSTART:20270328T010000
END:DAYLIGHT
BEGIN:STANDARD
TZOFFSETFROM:+0200
TZOFFSETTO:+0100
TZNAME:CET
DTSTART:20271031T010000
END:STANDARD
END:VTIMEZONE
BEGIN:VEVENT
DTSTART;TZID=Europe/Amsterdam:20260421T090000
DTEND;TZID=Europe/Amsterdam:20260421T170000
DTSTAMP:20260421T140904
CREATED:20241205T124642Z
LAST-MODIFIED:20260416T195225Z
UID:15500-1776762000-1776790800@www.lakshmi.nl
SUMMARY:Crystal Face Soul Flow Ritueel (Volzet)
DESCRIPTION:Energetische gezichtsverzorging met edelstenen en chakrahealing \nHet Crystal Face Soul Flow Ritueel is veel meer dan een gezichtsbehandeling. Het is een holistische ervaring die fysieke huidverzorging combineert met energetisch evenwicht en diepe innerlijke rust. \nTijdens deze behandeling werken we met edelstenen en chakrahealing\, waarbij niet alleen de huid maar ook het energetisch lichaam wordt verzorgd. De gezichtshuid is nauw verbonden met de zeven hoofdchakra’s. Door deze chakra’s in balans te brengen\, kunnen niet alleen huidproblemen worden verlicht\, maar ook emotionele en mentale spanningen afnemen. \nWat mag je ervaren?\n\n\nEen stralende\, gevoede huid \n\n\nVerbeterde bloedcirculatie en vermindering van fijne lijntjes \n\n\nMinder ontstekingen en een egalere teint \n\n\nEen gevoel van innerlijke rust en balans \n\n\nEen diepe verbinding tussen lichaam en geest \n\n\nLakShmi ontwikkelde dit ritueel met 7 edelstenen en 7 chakra-synergieën\, zorgvuldig afgestemd op de energetische trilling van elk hoofdchakra. De gebruikte edelstenen en essentiële oliën zijn van de hoogste kwaliteit\, met een zuivere frequentie die tijdens de behandeling voelbaar is als een zachte warmte of lichte tinteling. \nWaarom dit ritueel?\nHet Crystal Face Soul Flow Ritueel brengt je terug naar je kern. Het verbindt uiterlijke schoonheid met innerlijk welzijn en biedt een unieke\, serene ervaring die lichaam\, geest en ziel in harmonie brengt.
URL:https://www.lakshmi.nl/training/crystal-face-chakrahealing-edelsteenmassage/
LOCATION:LakShmi Trainingslocatie Oostmalle\, Talondreef 50\, Oostmalle\, Antwerpen\, 2390\, Belgium
ATTACH;FMTTYPE=image/png:https://www.lakshmi.nl/wp-content/uploads/2024/12/Crystal-face.png
ORGANIZER;CN="Lakshmi":MAILTO:info@lakshmi.nl
END:VEVENT
END:VCALENDAR