BEGIN:VCALENDAR
VERSION:2.0
PRODID:-//Lakshmi - ECPv6.15.20//NONSGML v1.0//EN
CALSCALE:GREGORIAN
METHOD:PUBLISH
X-WR-CALNAME:Lakshmi
X-ORIGINAL-URL:https://www.lakshmi.nl
X-WR-CALDESC:Evenementen voor Lakshmi
REFRESH-INTERVAL;VALUE=DURATION:PT1H
X-Robots-Tag:noindex
X-PUBLISHED-TTL:PT1H
BEGIN:VTIMEZONE
TZID:Europe/Amsterdam
BEGIN:DAYLIGHT
TZOFFSETFROM:+0100
TZOFFSETTO:+0200
TZNAME:CEST
DTSTART:20250330T010000
END:DAYLIGHT
BEGIN:STANDARD
TZOFFSETFROM:+0200
TZOFFSETTO:+0100
TZNAME:CET
DTSTART:20251026T010000
END:STANDARD
BEGIN:DAYLIGHT
TZOFFSETFROM:+0100
TZOFFSETTO:+0200
TZNAME:CEST
DTSTART:20260329T010000
END:DAYLIGHT
BEGIN:STANDARD
TZOFFSETFROM:+0200
TZOFFSETTO:+0100
TZNAME:CET
DTSTART:20261025T010000
END:STANDARD
BEGIN:DAYLIGHT
TZOFFSETFROM:+0100
TZOFFSETTO:+0200
TZNAME:CEST
DTSTART:20270328T010000
END:DAYLIGHT
BEGIN:STANDARD
TZOFFSETFROM:+0200
TZOFFSETTO:+0100
TZNAME:CET
DTSTART:20271031T010000
END:STANDARD
END:VTIMEZONE
BEGIN:VEVENT
DTSTART;TZID=Europe/Amsterdam:20261116T100000
DTEND;TZID=Europe/Amsterdam:20261117T170000
DTSTAMP:20260421T212255
CREATED:20251120T214019Z
LAST-MODIFIED:20251210T130256Z
UID:19174-1794823200-1794934800@www.lakshmi.nl
SUMMARY:Abhyanga Lichaamsmassage – 2-daagse training
DESCRIPTION:Stap in de wereld van diepe ontspanning en holistisch welzijn met de klassieke Ayurvedische Abhyanga lichaamsmassage. Deze luxe training leert je hoe je lichaam\, geest en energieën in harmonie brengt door warme oliën en verfijnde massagetechnieken. \nWat je leert: \n\n\nComplete Abhyanga lichaamsmassage voor een ultiem gevoel van ontspanning en revitalisatie \n\n\nDosha-specifieke olie- en massagekeuzes voor balans en harmonie \n\n\nTechnieken om het zenuwstelsel te kalmeren en energie te laten stromen \n\n\nHuid- en bindweefselverzorging met een voedende\, luxueuze aanpak \n\n\nResultaat voor jou en je klanten: \n\n\nEen diepe\, herstellende ervaring die spanning loslaat en energie herstelt \n\n\nVerbeterde doorbloeding\, soepelheid van spieren en stralende huid \n\n\nEen unieke\, luxe behandeling die ontspanning en welzijn combineert \n\n\nCreëer een onvergetelijke ervaring voor je klanten en til je massagevaardigheden naar een hoger niveau. Perfect voor therapeuten die holistische wellness willen aanbieden met een luxueuze touch.
URL:https://www.lakshmi.nl/training/abhyanga-lichaamsmassage-2-daagse-training/
LOCATION:LakShmi Trainingslocatie Oostmalle\, Talondreef 50\, Oostmalle\, Antwerpen\, 2390\, Belgium
ATTACH;FMTTYPE=image/png:https://www.lakshmi.nl/wp-content/uploads/2025/11/KUNDALINI-MASSAGE-20.png
ORGANIZER;CN="Lakshmi":MAILTO:info@lakshmi.nl
END:VEVENT
END:VCALENDAR