BEGIN:VCALENDAR
VERSION:2.0
PRODID:-//Lakshmi - ECPv6.15.20//NONSGML v1.0//EN
CALSCALE:GREGORIAN
METHOD:PUBLISH
X-WR-CALNAME:Lakshmi
X-ORIGINAL-URL:https://www.lakshmi.nl
X-WR-CALDESC:Evenementen voor Lakshmi
REFRESH-INTERVAL;VALUE=DURATION:PT1H
X-Robots-Tag:noindex
X-PUBLISHED-TTL:PT1H
BEGIN:VTIMEZONE
TZID:Europe/Amsterdam
BEGIN:DAYLIGHT
TZOFFSETFROM:+0100
TZOFFSETTO:+0200
TZNAME:CEST
DTSTART:20250330T010000
END:DAYLIGHT
BEGIN:STANDARD
TZOFFSETFROM:+0200
TZOFFSETTO:+0100
TZNAME:CET
DTSTART:20251026T010000
END:STANDARD
BEGIN:DAYLIGHT
TZOFFSETFROM:+0100
TZOFFSETTO:+0200
TZNAME:CEST
DTSTART:20260329T010000
END:DAYLIGHT
BEGIN:STANDARD
TZOFFSETFROM:+0200
TZOFFSETTO:+0100
TZNAME:CET
DTSTART:20261025T010000
END:STANDARD
BEGIN:DAYLIGHT
TZOFFSETFROM:+0100
TZOFFSETTO:+0200
TZNAME:CEST
DTSTART:20270328T010000
END:DAYLIGHT
BEGIN:STANDARD
TZOFFSETFROM:+0200
TZOFFSETTO:+0100
TZNAME:CET
DTSTART:20271031T010000
END:STANDARD
END:VTIMEZONE
BEGIN:VEVENT
DTSTART;TZID=Europe/Amsterdam:20260520T100000
DTEND;TZID=Europe/Amsterdam:20260520T170000
DTSTAMP:20260421T140520
CREATED:20251120T211913Z
LAST-MODIFIED:20251120T211913Z
UID:19166-1779271200-1779296400@www.lakshmi.nl
SUMMARY:Kumari Firming Ritueel & Garshan Tonic Ritueel
DESCRIPTION:Leer hoe je huid verstevigt\, toneert en remodelleert met het Kumari Firming Ritueel en de Garshan Tonic. Deze behandeling is speciaal ontwikkeld voor huid die verslapt is door zwangerschap\, borstvoeding\, gewichtsverlies of het natuurlijke verouderingsproces. \nWat je leert: \n\n\nTechnieken voor hydratatie en bescherming van de huid \n\n\nVerstevigende massagebehandelingen die tekenen van striae verminderen \n\n\nGebruik van actieve ingrediënten zoals microalgen\, silicium en gepatenteerde formules (Proteasyl™\, Slendyl®) voor bindweefselversteviging en cellulitisreductie \n\n\nSynergie van diepe weefsel- en oppervlaktetechnieken voor een strakkere\, soepelere huid \n\n\nSpecifieke aandacht voor kritieke gebieden zoals borsten\, decolleté en benen \n\n\nResultaat voor de klant: \n\n\nDirect voelbare soepelheid en stevigheid van de huid \n\n\nVerbeterde elasticiteit en huidtextuur \n\n\nVermindering van zachte cellulitis en striae \n\n\nEen gehydrateerde\, gerevitaliseerde en zichtbaar strakkere huid \n\n\nDeze training is ideaal voor therapeuten die hun expertise in lichaamsverzorging en anti-aging willen verdiepen en klanten een effectieve\, luxe en holistische ervaring willen bieden.
URL:https://www.lakshmi.nl/training/kumari-firming-ritueel-garshan-tonic-ritueel/
LOCATION:LakShmi Trainingslocatie Oostmalle\, Talondreef 50\, Oostmalle\, Antwerpen\, 2390\, Belgium
ATTACH;FMTTYPE=image/jpeg:https://www.lakshmi.nl/wp-content/uploads/2025/11/Chakraleer-2026-Instagram-Post-45-kopie.jpg
ORGANIZER;CN="Lakshmi":MAILTO:info@lakshmi.nl
END:VEVENT
END:VCALENDAR