BEGIN:VCALENDAR
VERSION:2.0
PRODID:-//Lakshmi - ECPv6.15.20//NONSGML v1.0//EN
CALSCALE:GREGORIAN
METHOD:PUBLISH
X-WR-CALNAME:Lakshmi
X-ORIGINAL-URL:https://www.lakshmi.nl
X-WR-CALDESC:Evenementen voor Lakshmi
REFRESH-INTERVAL;VALUE=DURATION:PT1H
X-Robots-Tag:noindex
X-PUBLISHED-TTL:PT1H
BEGIN:VTIMEZONE
TZID:Europe/Amsterdam
BEGIN:DAYLIGHT
TZOFFSETFROM:+0100
TZOFFSETTO:+0200
TZNAME:CEST
DTSTART:20210328T010000
END:DAYLIGHT
BEGIN:STANDARD
TZOFFSETFROM:+0200
TZOFFSETTO:+0100
TZNAME:CET
DTSTART:20211031T010000
END:STANDARD
BEGIN:DAYLIGHT
TZOFFSETFROM:+0100
TZOFFSETTO:+0200
TZNAME:CEST
DTSTART:20220327T010000
END:DAYLIGHT
BEGIN:STANDARD
TZOFFSETFROM:+0200
TZOFFSETTO:+0100
TZNAME:CET
DTSTART:20221030T010000
END:STANDARD
BEGIN:DAYLIGHT
TZOFFSETFROM:+0100
TZOFFSETTO:+0200
TZNAME:CEST
DTSTART:20230326T010000
END:DAYLIGHT
BEGIN:STANDARD
TZOFFSETFROM:+0200
TZOFFSETTO:+0100
TZNAME:CET
DTSTART:20231029T010000
END:STANDARD
END:VTIMEZONE
BEGIN:VEVENT
DTSTART;TZID=Europe/Amsterdam:20220311T100000
DTEND;TZID=Europe/Amsterdam:20220311T170000
DTSTAMP:20260422T101614
CREATED:20220222T194032Z
LAST-MODIFIED:20220222T200436Z
UID:4788-1646992800-1647018000@www.lakshmi.nl
SUMMARY:KRISTAL FACE RITUAL: EDELSTEEN - & CHAKRATHERAPIE
DESCRIPTION:Een chakrahealing of chakratherapie is gericht op het openen en balanceren van onze emoties. Negatieve blokkades worden opgeheven en de energie kan weer vrij door het lichaam stromen. Deze behandeling werkt diep door zowel op het fysiek\, emotioneel\, mentaal en spiritueel niveau en is geschikt voor iedereen die veel stress ervaart\, goed inzetbaar bij de wisselingen van de seizoenen of gewoon als heerlijke holistische gezichtsverzorging om weer extra goed op te laden.
URL:https://www.lakshmi.nl/training/kristal-face-ritual-edelsteen-chakratherapie-2/
LOCATION:Voorschoten\, Professor Asserlaan 1a\, Voorschoten\, 2251CL\, Nederland
ATTACH;FMTTYPE=image/jpeg:https://www.lakshmi.nl/wp-content/uploads/2022/02/Sophie-YvonneVerhulsdonkFotografie-5071-scaled-1.jpeg
END:VEVENT
BEGIN:VEVENT
DTSTART;TZID=Europe/Amsterdam:20220307T100000
DTEND;TZID=Europe/Amsterdam:20220307T170000
DTSTAMP:20260422T101614
CREATED:20220222T193756Z
LAST-MODIFIED:20220222T193812Z
UID:4780-1646647200-1646672400@www.lakshmi.nl
SUMMARY:SHIRODHARA: CONSTANTE STROOM OLIE OP HET VOORHOOFD
DESCRIPTION:Bij een Shirodhara behandeling giet je een constante stroom van warme Ayurvedische kruidenolie op het voorhoofd. Door het ontspannende effect van de warme olie op het voorhoofd worden ook onze gedachten gezuiverd\, waardoor mentale druk wordt verlicht. Men bereikt lichamelijke en geestelijke helderheid. Het vult de weefsels aan van zuurstof\, het zorgt voor verjonging van de huid\, het optimaliseert de circulatie van voedingsstoffen voor lichaam en geest. Afvalstoffen worden sneller afgevoerd waardoor voedingsstoffen beter kunnen worden opgenomen en de celregeneratie bevorderd wordt. Shirodhara stimuleert de werking van de hypofyse en de hypothalamus\, die onder meer de hormoonbalans in ons lichaam regelen. Door Shirodhara wordt bijvoorbeeld de afscheiding van serotonine gestimuleerd\, een ‘feelgood’ hormoon dat ons gevoelens van rust en welbehagen geeft. Shirodhara is een belangrijk en zeer krachtige Ayurvedische behandelmethode die kan worden ingezet bij de meeste neurologische problemen/ psychische klachten\, stress\, zenuwspanning en slaapstoornissen. Shirodhara kan ook uitstekend als preventieve behandeling worden toegepast om voorgenoemde klachten te voorkomen.
URL:https://www.lakshmi.nl/training/shirodhara-constante-stroom-olie-op-het-voorhoofd-2/
LOCATION:Voorschoten\, Professor Asserlaan 1a\, Voorschoten\, 2251CL\, Nederland
ATTACH;FMTTYPE=image/jpeg:https://www.lakshmi.nl/wp-content/uploads/2022/02/shirodhara.jpeg
END:VEVENT
END:VCALENDAR