BEGIN:VCALENDAR
VERSION:2.0
PRODID:-//Lakshmi - ECPv6.15.20//NONSGML v1.0//EN
CALSCALE:GREGORIAN
METHOD:PUBLISH
X-WR-CALNAME:Lakshmi
X-ORIGINAL-URL:https://www.lakshmi.nl
X-WR-CALDESC:Evenementen voor Lakshmi
REFRESH-INTERVAL;VALUE=DURATION:PT1H
X-Robots-Tag:noindex
X-PUBLISHED-TTL:PT1H
BEGIN:VTIMEZONE
TZID:Europe/Amsterdam
BEGIN:DAYLIGHT
TZOFFSETFROM:+0100
TZOFFSETTO:+0200
TZNAME:CEST
DTSTART:20250330T010000
END:DAYLIGHT
BEGIN:STANDARD
TZOFFSETFROM:+0200
TZOFFSETTO:+0100
TZNAME:CET
DTSTART:20251026T010000
END:STANDARD
BEGIN:DAYLIGHT
TZOFFSETFROM:+0100
TZOFFSETTO:+0200
TZNAME:CEST
DTSTART:20260329T010000
END:DAYLIGHT
BEGIN:STANDARD
TZOFFSETFROM:+0200
TZOFFSETTO:+0100
TZNAME:CET
DTSTART:20261025T010000
END:STANDARD
BEGIN:DAYLIGHT
TZOFFSETFROM:+0100
TZOFFSETTO:+0200
TZNAME:CEST
DTSTART:20270328T010000
END:DAYLIGHT
BEGIN:STANDARD
TZOFFSETFROM:+0200
TZOFFSETTO:+0100
TZNAME:CET
DTSTART:20271031T010000
END:STANDARD
BEGIN:DAYLIGHT
TZOFFSETFROM:+0100
TZOFFSETTO:+0200
TZNAME:CEST
DTSTART:20280326T010000
END:DAYLIGHT
BEGIN:STANDARD
TZOFFSETFROM:+0200
TZOFFSETTO:+0100
TZNAME:CET
DTSTART:20281029T010000
END:STANDARD
END:VTIMEZONE
BEGIN:VEVENT
DTSTART;TZID=Europe/Amsterdam:20260420T090000
DTEND;TZID=Europe/Amsterdam:20260420T170000
DTSTAMP:20260420T111300
CREATED:20241205T132813Z
LAST-MODIFIED:20260416T193758Z
UID:15506-1776675600-1776704400@www.lakshmi.nl
SUMMARY:Kundalini Shakti Flow Ritueel (Volzet)
DESCRIPTION:Voor diepe energetische zuivering\, heling en herverbinding met je levenskracht \nVoel je je chronisch vermoeid zonder duidelijke oorzaak? Ervaar je pijn in je onderrug of ruggengraat\, stemmingswisselingen\, slapeloosheid\, innerlijke onrust of een gevoel van stagnatie in je leven? Heb je moeite met concentratie\, blijf je hangen in negatieve denkpatronen\, of voel je je overgevoelig voor prikkels? \nDeze klachten kunnen wijzen op een verstoorde of geblokkeerde Kundalini-energie – de levensenergie die langs de wervelkolom stroomt en de zeven hoofdchakra’s met elkaar verbindt. \nWat is het Kundalini Shakti Flow Ritueel?\nHet Kundalini Shakti Flow Ritueel is een diepe lichaamsbehandeling die zich richt op het activeren en in balans brengen van de Kundalini-energie. Door het opheffen van blokkades in het energiesysteem ontstaat ruimte voor bewustzijn\, innerlijke rust\, heling en spirituele groei. \nDe behandeling combineert: \n\n\nChakrahealing met edelstenen & aromatherapie \n\n\nDeep tissue massage (met handen\, hot stones & cupping) \n\n\nHandoplegging\, ademhalingstechnieken\, affirmaties \n\n\nGerichte massage van de wervelkolom en buikregio \n\n\nWat doet het voor jou?\n✅ Vermindert fysieke en emotionele spanningen✅ Stimuleert de energiedoorstroming via de nadi’s✅ Ondersteunt de werking van het lymfesysteem✅ Verbetert de bloedcirculatie\, ademhaling en prana (levensenergie)✅ Verlicht mentale onrust\, bevordert helderheid en concentratie✅ Helpt bij het loslaten van opgeslagen trauma en emoties✅ Herstelt creativiteit\, motivatie en innerlijke balans \nDe rol van cupping\nCupping is een krachtige techniek waarbij vacuümcups op de huid worden geplaatst. Deze stimuleren de bloedsomloop\, voeren gifstoffen (ama) af en maken verkrampte spieren los. Binnen dit ritueel worden de cups gericht toegepast op lymfebanen en marmapunten om het energienetwerk te bevrijden. \nHolistische ondersteuning na de behandeling\nEen Kundalini-behandeling in de salon is krachtig\, maar wordt nog effectiever wanneer je deze ondersteunt met een thuisritueel.We raden aan om: \n🧘‍♀️ Regelmatig te mediteren met diepe ademhaling en visualisaties🌿 Yoga te beoefenen om spanningen los te maken en energie te laten stromen🌳 Te aarden – door te wandelen in de natuur of bewuste verbinding met de aarde🕯️ Zelfzorgmomenten in te plannen met rust\, gezonde voeding en een serene omgeving🔮 Te werken met affirmaties\, chakra-aroma’s en edelstenen via het LakShmi Chakra & Affirmatie kaartendek💆‍♀️ De behandeling in kuurvorm te herhalen\, of aan te vullen met andere LakShmi-rituelen \nHeb je de LakShmi Chakraleer training gevolgd? Dan kun je nog dieper en specifieker werken op geblokkeerde chakra’s.
URL:https://www.lakshmi.nl/training/kundalini-deep-tissue-rug-nek-schoudermassage-met-cupping/
LOCATION:LakShmi Trainingslocatie Oostmalle\, Talondreef 50\, Oostmalle\, Antwerpen\, 2390\, Belgium
ATTACH;FMTTYPE=image/png:https://www.lakshmi.nl/wp-content/uploads/2024/12/KUNDALINI-MASSAGE-9.png
ORGANIZER;CN="Lakshmi":MAILTO:info@lakshmi.nl
END:VEVENT
BEGIN:VEVENT
DTSTART;TZID=Europe/Amsterdam:20260421T090000
DTEND;TZID=Europe/Amsterdam:20260421T170000
DTSTAMP:20260420T111300
CREATED:20241205T124642Z
LAST-MODIFIED:20260416T195225Z
UID:15500-1776762000-1776790800@www.lakshmi.nl
SUMMARY:Crystal Face Soul Flow Ritueel (Volzet)
DESCRIPTION:Energetische gezichtsverzorging met edelstenen en chakrahealing \nHet Crystal Face Soul Flow Ritueel is veel meer dan een gezichtsbehandeling. Het is een holistische ervaring die fysieke huidverzorging combineert met energetisch evenwicht en diepe innerlijke rust. \nTijdens deze behandeling werken we met edelstenen en chakrahealing\, waarbij niet alleen de huid maar ook het energetisch lichaam wordt verzorgd. De gezichtshuid is nauw verbonden met de zeven hoofdchakra’s. Door deze chakra’s in balans te brengen\, kunnen niet alleen huidproblemen worden verlicht\, maar ook emotionele en mentale spanningen afnemen. \nWat mag je ervaren?\n\n\nEen stralende\, gevoede huid \n\n\nVerbeterde bloedcirculatie en vermindering van fijne lijntjes \n\n\nMinder ontstekingen en een egalere teint \n\n\nEen gevoel van innerlijke rust en balans \n\n\nEen diepe verbinding tussen lichaam en geest \n\n\nLakShmi ontwikkelde dit ritueel met 7 edelstenen en 7 chakra-synergieën\, zorgvuldig afgestemd op de energetische trilling van elk hoofdchakra. De gebruikte edelstenen en essentiële oliën zijn van de hoogste kwaliteit\, met een zuivere frequentie die tijdens de behandeling voelbaar is als een zachte warmte of lichte tinteling. \nWaarom dit ritueel?\nHet Crystal Face Soul Flow Ritueel brengt je terug naar je kern. Het verbindt uiterlijke schoonheid met innerlijk welzijn en biedt een unieke\, serene ervaring die lichaam\, geest en ziel in harmonie brengt.
URL:https://www.lakshmi.nl/training/crystal-face-chakrahealing-edelsteenmassage/
LOCATION:LakShmi Trainingslocatie Oostmalle\, Talondreef 50\, Oostmalle\, Antwerpen\, 2390\, Belgium
ATTACH;FMTTYPE=image/png:https://www.lakshmi.nl/wp-content/uploads/2024/12/Crystal-face.png
ORGANIZER;CN="Lakshmi":MAILTO:info@lakshmi.nl
END:VEVENT
BEGIN:VEVENT
DTSTART;TZID=Europe/Amsterdam:20260520T100000
DTEND;TZID=Europe/Amsterdam:20260520T170000
DTSTAMP:20260420T111300
CREATED:20251120T211913Z
LAST-MODIFIED:20251120T211913Z
UID:19166-1779271200-1779296400@www.lakshmi.nl
SUMMARY:Kumari Firming Ritueel & Garshan Tonic Ritueel
DESCRIPTION:Leer hoe je huid verstevigt\, toneert en remodelleert met het Kumari Firming Ritueel en de Garshan Tonic. Deze behandeling is speciaal ontwikkeld voor huid die verslapt is door zwangerschap\, borstvoeding\, gewichtsverlies of het natuurlijke verouderingsproces. \nWat je leert: \n\n\nTechnieken voor hydratatie en bescherming van de huid \n\n\nVerstevigende massagebehandelingen die tekenen van striae verminderen \n\n\nGebruik van actieve ingrediënten zoals microalgen\, silicium en gepatenteerde formules (Proteasyl™\, Slendyl®) voor bindweefselversteviging en cellulitisreductie \n\n\nSynergie van diepe weefsel- en oppervlaktetechnieken voor een strakkere\, soepelere huid \n\n\nSpecifieke aandacht voor kritieke gebieden zoals borsten\, decolleté en benen \n\n\nResultaat voor de klant: \n\n\nDirect voelbare soepelheid en stevigheid van de huid \n\n\nVerbeterde elasticiteit en huidtextuur \n\n\nVermindering van zachte cellulitis en striae \n\n\nEen gehydrateerde\, gerevitaliseerde en zichtbaar strakkere huid \n\n\nDeze training is ideaal voor therapeuten die hun expertise in lichaamsverzorging en anti-aging willen verdiepen en klanten een effectieve\, luxe en holistische ervaring willen bieden.
URL:https://www.lakshmi.nl/training/kumari-firming-ritueel-garshan-tonic-ritueel/
LOCATION:LakShmi Trainingslocatie Oostmalle\, Talondreef 50\, Oostmalle\, Antwerpen\, 2390\, Belgium
ATTACH;FMTTYPE=image/jpeg:https://www.lakshmi.nl/wp-content/uploads/2025/11/Chakraleer-2026-Instagram-Post-45-kopie.jpg
ORGANIZER;CN="Lakshmi":MAILTO:info@lakshmi.nl
END:VEVENT
BEGIN:VEVENT
DTSTART;TZID=Europe/Amsterdam:20260601T093000
DTEND;TZID=Europe/Amsterdam:20260601T170000
DTSTAMP:20260420T111300
CREATED:20260331T135203Z
LAST-MODIFIED:20260331T135203Z
UID:20646-1780306200-1780333200@www.lakshmi.nl
SUMMARY:Garshan Dren & Udara – Jouw reset voor lichaam en energie
DESCRIPTION:Body reset\, detox\, vitaliteitsherstel\, een fitheidsboost of een complete wellness reset…Dit krachtige Ayurvedische ritueel brengt alles samen. \nIn onze drukke maatschappij\, waar stress\, ongezonde voeding en te weinig beweging vaak de norm zijn\, raakt het lichaam snel uit balans. Dit kan zich uiten in vochtophoping\, vermoeidheid\, hormonale disbalans en spijsverteringsklachten. \nGarshan Dren & Udara is jouw eerste stap naar herstel. \nDeze unieke Ayurvedische combinatiebehandeling stimuleert de lymfestroom\, activeert de doorbloeding en ondersteunt de werking van de interne organen. Hierdoor worden afvalstoffen efficiënter afgevoerd\, verbetert de zuurstofopname en komt je energiestroom opnieuw in balans. \n\nWat maakt dit ritueel zo bijzonder?\n\nGarshan staat voor beweging – op fysiek\, emotioneel én energetisch niveau\nUdara verwijst naar de buik – het centrum van gezondheid\, energie en emoties\nActiveert Agni (je spijsverteringsvuur)\nBrengt balans in de dosha’s (Vata\, Pitta en Kapha)\nOndersteunt de afvoer van toxines en overtollig vocht\nStimuleert het zelfherstellend vermogen van je lichaam\n\n\nMeer dan een behandeling\nDit ritueel is geen gewone behandeling\, maar een moment van diepe zelfzorg.Een uitnodiging om te vertragen\, los te laten en opnieuw verbinding te maken met je lichaam. \nGun jezelf deze reset en ervaar hoe licht\, energiek en in balans je je weer kunt voelen. \n\nOpleiding & verdieping\nNa het volgen van deze training plannen we samen met de groep meteen een tweede datum in voor een verdiepende vervolgtraining.Zo krijg je de kans om je kennis verder te verdiepen\, technieken te verfijnen en nog meer vertrouwen op te bouwen in je praktijk.
URL:https://www.lakshmi.nl/training/garshan-dren-udara-jouw-reset-voor-lichaam-en-energie/
LOCATION:LakShmi Trainingslocatie Oostmalle\, Talondreef 50\, Oostmalle\, Antwerpen\, 2390\, Belgium
ATTACH;FMTTYPE=image/png:https://www.lakshmi.nl/wp-content/uploads/2026/03/Screenshot-2026-03-31-at-15-46-20-BENDAGGIO-DETOX-DREN-–-Lakshmi-Official-Store.png
END:VEVENT
BEGIN:VEVENT
DTSTART;TZID=Europe/Amsterdam:20260627T080000
DTEND;TZID=Europe/Amsterdam:20260628T170000
DTSTAMP:20260420T111300
CREATED:20251120T222132Z
LAST-MODIFIED:20260318T103321Z
UID:19178-1782547200-1782666000@www.lakshmi.nl
SUMMARY:Jaarlijkse Lakshmi Reis naar Italië
DESCRIPTION:Ook dit jaar nodigen we alle Lakshmi Professionals uit voor onze inspirerende groepsreis naar Italië\, een unieke kans om je te verbinden met collega’s\, je kennis te verdiepen en de magie van LakShmi te beleven in haar thuisbasis. \nIn 2026 trekken we naar de prachtige bergen van Verona\, waar ook het LakShmi-magazijn gevestigd is. Een locatie vol natuur\, rust en pure Italiaanse charme. \nSamen reizen – zorgeloos van begin tot einde\nZodra je je aanmeldt\, regelen wij de praktische kant voor jou: \n\n\nWe boeken samen de vlucht vanuit België/Nederland \n\n\nHet hotel wordt door ons gereserveerd \n\n\nEr is ruimte om je partner of gezin mee te nemen\, voor wie ook verblijf kan worden voorzien \n\n\nMaak er gerust een heerlijke gezinsvakantie van in deze betoverende regio. \nEen volledig vernieuwde 2-daagse LakShmi Meeting\nDit jaar krijgt de meeting een compleet nieuw concept: \nDag 1 – Exclusieve Trainingsdag | 27/06/2026Een kleinschaligere\, meer persoonlijke dag waar je samen met andere internationale importeurs\, professionals en trainers een exclusieve training krijgt.(De inhoud van deze dag wordt later in het jaar bekendgemaakt.) \nDag 2 – LakShmi Experience Event | 28/06/2026Een groot evenement in de tuinen van Lakshmi\, gevuld met inspirerende sprekers\, workshops en live demonstraties. \nSave the date en reis met ons mee\nZet de datum alvast in je agenda\, plan een ontspannende vakantie eraan vast en laat ons weten of je graag deelneemt.Samen maken we er opnieuw een onvergetelijke\, verbindende en leerzame Lakshmi-reis van. \n👉 Wil je graag mee? Schrijf je dan vandaag nog in via de aankoop van deze link.\n \nWe kijken ernaar uit om deze bijzondere ervaring samen te delen. 💛🌿
URL:https://www.lakshmi.nl/training/jaarlijkse-lakshmi-reis-naar-italie/
LOCATION:Verona – Italie\, Via Fia di Loto\, Bosco Chiesanuova\, Verona\,\, Italy
ATTACH;FMTTYPE=image/jpeg:https://www.lakshmi.nl/wp-content/uploads/2025/11/Chakraleer-2026-Instagram-Post-45-kopie-2.jpg
ORGANIZER;CN="Lakshmi":MAILTO:info@lakshmi.nl
END:VEVENT
BEGIN:VEVENT
DTSTART;TZID=Europe/Amsterdam:20260907T100000
DTEND;TZID=Europe/Amsterdam:20260907T170000
DTSTAMP:20260420T111300
CREATED:20251121T083807Z
LAST-MODIFIED:20251121T083807Z
UID:19187-1788775200-1788800400@www.lakshmi.nl
SUMMARY:Timeless Cupping & SkinGlow – Holistische bindweefsel- en anti-pigment behandeling
DESCRIPTION:Naarmate de jaren voorbijgaan\, verliest ons onderhuids bindweefsel geleidelijk kracht en elasticiteit. Dit merk je wanneer de huid slapper wordt\, contouren vervagen en pigmentvlekken zichtbaar worden. Gelukkig biedt LakShmi een holistische aanpak om zowel de stevigheid als de helderheid van de huid te verbeteren. \nTijdens de Timeless Cupping & SkinGlow training leer je hoe je: \n\n\nHet bindweefsel activeert en contouren verstevigt met bindweefseltechnieken en cuppingmassage \n\n\nAfvalstoffen op een dieper niveau stimuleert en afvoert \n\n\nPigmentvlekken vermindert en de teint egaliseert met de SkinGlow-lijn \n\n\nHuid en geest tegelijkertijd ontspant\, voor een optimaal resultaat \n\n\nDe behandeling combineert holistische massage\, zachte gezichtscupping en de krachtige SkinGlow-producten. Door de combinatie van stimulatie van de doorbloeding\, actieve ingrediënten en bindweefseltechnieken wordt de huid verhelderd\, gehydrateerd en zichtbaar strakker. \nVoor het beste resultaat adviseren we een kuurvorm: meerdere behandelingen op korte termijn stimuleren stevigheid\, verbeteren de teint en bevorderen een diepere afvalstofafvoer\, net zoals sporten alleen effect heeft bij regelmaat. \nTijdens de training leer je alle technieken\, productaanpassingen\, contra-indicaties en behandelstrategieën\, zodat je de combinatie van Timeless Cupping en SkinGlow professioneel kunt toepassen.
URL:https://www.lakshmi.nl/training/timeless-cupping-skinglow-holistische-bindweefsel-en-anti-pigment-behandeling/
LOCATION:LakShmi Trainingslocatie Oostmalle\, Talondreef 50\, Oostmalle\, Antwerpen\, 2390\, Belgium
ATTACH;FMTTYPE=image/jpeg:https://www.lakshmi.nl/wp-content/uploads/2025/11/Chakraleer-2026-Instagram-Post-45-kopie-5.jpg
ORGANIZER;CN="Lakshmi":MAILTO:info@lakshmi.nl
END:VEVENT
BEGIN:VEVENT
DTSTART;TZID=Europe/Amsterdam:20260908T100000
DTEND;TZID=Europe/Amsterdam:20260908T170000
DTSTAMP:20260420T111300
CREATED:20251121T085002Z
LAST-MODIFIED:20251121T085002Z
UID:19191-1788861600-1788886800@www.lakshmi.nl
SUMMARY:Diamond\, Chronology & Netra Hamsa – Anti-Age Gezichtsbehandeling met Edelsteenmassage
DESCRIPTION:De huid verliest in de loop der jaren stevigheid en elasticiteit\, en de ogen zijn vaak een van de eerste gebieden waar tekenen van veroudering zichtbaar worden. De Diamond\, Chronology & Netra Hamsa behandeling is speciaal ontwikkeld voor de anti-age huid met extra focus op de oogzone. \nTijdens deze training leer je hoe je: \n\n\nVerslapte huid effectief verstevigt en lift \n\n\nDe delicate oogcontour verzorgt\, fijne lijntjes verzacht en wallen vermindert \n\n\nEdelsteenmassage-technieken toepast voor stimulatie van de doorbloeding\, energiebalans en diepe ontspanning \n\n\nDe huid activeert en voedt met de Diamond en Chronology productlijnen \n\n\nDoor het combineren van gerichte massagetechnieken\, edelstenen en hoogwaardige anti-age formules krijgt de huid een zichtbaar steviger\, stralender en jeugdiger uiterlijk. Tegelijkertijd ervaren klanten een diepe ontspanning\, omdat lichaam en geest in balans worden gebracht. \nDe training richt zich op een holistische benadering van anti-aging\, waarbij oogcontour\, gelaat en energetische balans samenkomen voor optimale resultaten.
URL:https://www.lakshmi.nl/training/diamond-chronology-netra-hamsa-anti-age-gezichtsbehandeling-met-edelsteenmassage/
LOCATION:LakShmi Trainingslocatie Oostmalle\, Talondreef 50\, Oostmalle\, Antwerpen\, 2390\, Belgium
ATTACH;FMTTYPE=image/jpeg:https://www.lakshmi.nl/wp-content/uploads/2025/11/Chakraleer-2026-Instagram-Post-45-kopie-6.jpg
ORGANIZER;CN="Lakshmi":MAILTO:info@lakshmi.nl
END:VEVENT
BEGIN:VEVENT
DTSTART;TZID=Europe/Amsterdam:20260921T090000
DTEND;TZID=Europe/Amsterdam:20260922T170000
DTSTAMP:20260420T111300
CREATED:20251016T124244Z
LAST-MODIFIED:20260209T134821Z
UID:18815-1789981200-1790096400@www.lakshmi.nl
SUMMARY:Vata\, Pitta\, Kapha Rituelen | Gezichtsrituelen & Psychosomatica
DESCRIPTION:Huidproblemen worden volgens de Ayurvedische filosofie behandeld door het hele lichaam in balans te brengen in plaats van alleen symptomen aan te pakken.\nEen gezonde huid en het welzijn van een persoon worden bepaald door de balans tussen drie fundamentele energieën\, de zogenaamde dosha’s.\nHet balanceren van de dosha’s houdt in dat je je lichaam\, geest en emoties in harmonie brengt door middel van dieet\, levensstijl\, meditatie en specifieke Ayurvedische behandelingen. Als een dosha uit balans raakt (door stress\, slechte voeding\, weersomstandigheden\, of andere factoren)\, kan dit leiden tot fysieke en mentale ongemakken.\nElke dosha vertegenwoordigt een combinatie van de vijf elementen (aarde\, water\, vuur\, lucht\, en ether) en beïnvloedt zowel het lichaam als de geest. \nDe drie dosha’s zijn: \n1. Vata dosha (lucht en ether)\, verantwoordelijk voor beweging\, ademhaling\, zenuwstelsel\, en bloedcirculatie. Onbalans kan zich uiten in angst\, slapeloosheid\, constipatie\, en droge huid. Een Vata huid is eerder een droge huid\, vatbaar voor rimpels. Heeft hydratatie en een zachte verzorging nodig maar ook aandacht voor de buik\, de oren\, de doorbloeding en stressmanagement is van essentieel belang. \n2. Pitta dosha (vuur en water)\, reguleert spijsvertering\, metabolisme\, en energieproductie. Onbalans kan leiden tot woede\, ontstekingen\, maagzweren\, en huidproblemen zoals roodheid en ontstekingen. Deze huid heeft kalmerende en verkoelende producten nodig maar de persoon zelf heeft ook meer zachtheid nodig in gedachten en gevoelens en er is meer aandacht voor zelfzorg nodig\, extra aandacht voor de spijsvertering\, de ogen en het alkaliseren van het lichaam is voor dit dosha type aangewezen. \n3. Kapha dosha (aarde en water)\, zorgt voor stabiliteit\, structuur\, en smering van gewrichten. Onbalans kan leiden tot lethargie\, gewichtstoename\, verkoudheid\, depressie en een vette huid\, of een huid met verstopte poriën. Deze huid heeft meer reiniging en stimulatie nodig. Extra aandacht voor het lichaam\, zoals het activeren van de lymfe en de bloedsomloop\, en het ontgiften van het lichaam is voor dit dosha type aangewezen.\nHet is belangrijk om producten en behandeltechnieken te kiezen die in lijn zijn met je dominante dosha om de onbalans te corrigeren. \nLet op! Dit is een verplichte 2-daagse training. \n  \n 
URL:https://www.lakshmi.nl/training/vata-pitta-kapha-rituelen-gezichtsrituelen-psychosomatica/
LOCATION:LakShmi Trainingslocatie Rotterdam\, K.P. Van Der Mandelelaan 150\, Rotterdam\, Zuid-Holland\, 3062 MB\, Netherlands
ATTACH;FMTTYPE=image/png:https://www.lakshmi.nl/wp-content/uploads/2025/10/9-300x300-1.png
END:VEVENT
BEGIN:VEVENT
DTSTART;TZID=Europe/Amsterdam:20261007T100000
DTEND;TZID=Europe/Amsterdam:20261007T170000
DTSTAMP:20260420T111300
CREATED:20251120T213351Z
LAST-MODIFIED:20251120T213351Z
UID:19170-1791367200-1791392400@www.lakshmi.nl
SUMMARY:Soundhealing – Ayurvedische Klankschaalmassage
DESCRIPTION:Beleef een diep ontspannende en energetische ervaring met onze Ayurvedische klankschaalmassage. Ons lichaam bestaat voor gemiddeld 70% uit water\, dat essentieel is voor de werking van organen en cellen. Door de trillingen van de klankschalen wordt dit water subtiel gemasseerd\, waardoor lichaam en geest diep ontspannen en het zelfgenezend vermogen wordt gestimuleerd. \nTijdens deze behandeling worden drie klankschalen gebruikt\, elk afgestemd op verschillende toonresonanties. Deze resonanties werken op verschillende niveaus van het lichaam en energetische systeem\, waardoor de trillingen als een innerlijke massage door het hele lichaam worden gevoeld. \nWat je ervaart: \n\n\nDiepe ontspanning van lichaam en geest \n\n\nStimulatie van cellen en energetische balans \n\n\nVermindering van stress en spanning \n\n\nVerbetering van het zelfherstellend vermogen \n\n\nEen gevoel van herboren energie en innerlijke rust \n\n\nDe effecten van de klankschalen kunnen dagenlang aanhouden\, waardoor je langer profiteert van harmonie\, balans en revitalisatie. Deze training leert hoe je de klankschalen effectief toepast\, de verschillende toonresonanties gebruikt en klanten een unieke holistische ervaring biedt.
URL:https://www.lakshmi.nl/training/soundhealing-ayurvedische-klankschaalmassage/
LOCATION:LakShmi Trainingslocatie Oostmalle\, Talondreef 50\, Oostmalle\, Antwerpen\, 2390\, Belgium
ORGANIZER;CN="Lakshmi":MAILTO:info@lakshmi.nl
END:VEVENT
BEGIN:VEVENT
DTSTART;TZID=Europe/Amsterdam:20261116T100000
DTEND;TZID=Europe/Amsterdam:20261117T170000
DTSTAMP:20260420T111300
CREATED:20251120T214019Z
LAST-MODIFIED:20251210T130256Z
UID:19174-1794823200-1794934800@www.lakshmi.nl
SUMMARY:Abhyanga Lichaamsmassage – 2-daagse training
DESCRIPTION:Stap in de wereld van diepe ontspanning en holistisch welzijn met de klassieke Ayurvedische Abhyanga lichaamsmassage. Deze luxe training leert je hoe je lichaam\, geest en energieën in harmonie brengt door warme oliën en verfijnde massagetechnieken. \nWat je leert: \n\n\nComplete Abhyanga lichaamsmassage voor een ultiem gevoel van ontspanning en revitalisatie \n\n\nDosha-specifieke olie- en massagekeuzes voor balans en harmonie \n\n\nTechnieken om het zenuwstelsel te kalmeren en energie te laten stromen \n\n\nHuid- en bindweefselverzorging met een voedende\, luxueuze aanpak \n\n\nResultaat voor jou en je klanten: \n\n\nEen diepe\, herstellende ervaring die spanning loslaat en energie herstelt \n\n\nVerbeterde doorbloeding\, soepelheid van spieren en stralende huid \n\n\nEen unieke\, luxe behandeling die ontspanning en welzijn combineert \n\n\nCreëer een onvergetelijke ervaring voor je klanten en til je massagevaardigheden naar een hoger niveau. Perfect voor therapeuten die holistische wellness willen aanbieden met een luxueuze touch.
URL:https://www.lakshmi.nl/training/abhyanga-lichaamsmassage-2-daagse-training/
LOCATION:LakShmi Trainingslocatie Oostmalle\, Talondreef 50\, Oostmalle\, Antwerpen\, 2390\, Belgium
ATTACH;FMTTYPE=image/png:https://www.lakshmi.nl/wp-content/uploads/2025/11/KUNDALINI-MASSAGE-20.png
ORGANIZER;CN="Lakshmi":MAILTO:info@lakshmi.nl
END:VEVENT
BEGIN:VEVENT
DTSTART;TZID=Europe/Amsterdam:20270116T080000
DTEND;TZID=Europe/Amsterdam:20270128T170000
DTSTAMP:20260420T111300
CREATED:20251120T223019Z
LAST-MODIFIED:20260317T134420Z
UID:19182-1800086400-1801155600@www.lakshmi.nl
SUMMARY:LakShmi India Reis van 16/01 tot 28/01/2027 – Een Spirituele Retreat Ervaring
DESCRIPTION:In januari 2027 organiseren we een uitzonderlijke reis naar India\, het land waar Ayurveda\, spiritualiteit en de LakShmi-filosofie hun oorsprong vinden.Van 16 tot 28 januari 2027 (data kunnen licht afwijken) dompelen we ons volledig onder in het Ananda LakShmi Retreat\, een plek die rust\, heling en diepe transformatie uitstraalt. \nTijdens deze bijzondere reis krijg je de kans om: \n\n\nAyurvedische rituelen te beleven in hun authentieke vorm \n\n\nJe te verbinden met de bron van de LakShmi-visie \n\n\nJe lichaam en geest te resetten in een omgeving van natuur\, stilte en energie \n\n\nWorkshops\, behandelingen en spirituele ervaringen te volgen in het hart van India \n\n\nDit wordt een reis van groei\, verbinding en innerlijke vernieuwing\, exclusief voor LakShmi professionals. \nGa je graag mee?Laat het ons weten en we houden alvast een plaatsje voor je vrij.De groep wordt beperkt gehouden\, zodat iedereen een diepe\, persoonlijke ervaring kan beleven.
URL:https://www.lakshmi.nl/training/lakshmi-india-reis-2027-een-spirituele-retreat-ervaring/
LOCATION:Kerala\, Kerala\, Trivandrum\, India
ATTACH;FMTTYPE=image/jpeg:https://www.lakshmi.nl/wp-content/uploads/2025/11/Chakraleer-2026-Instagram-Post-45-kopie-3.jpg
ORGANIZER;CN="Lakshmi":MAILTO:info@lakshmi.nl
END:VEVENT
END:VCALENDAR