BEGIN:VCALENDAR
VERSION:2.0
PRODID:-//Lakshmi - ECPv6.15.20//NONSGML v1.0//EN
CALSCALE:GREGORIAN
METHOD:PUBLISH
X-ORIGINAL-URL:https://www.lakshmi.nl
X-WR-CALDESC:Evenementen voor Lakshmi
REFRESH-INTERVAL;VALUE=DURATION:PT1H
X-Robots-Tag:noindex
X-PUBLISHED-TTL:PT1H
BEGIN:VTIMEZONE
TZID:Europe/Amsterdam
BEGIN:DAYLIGHT
TZOFFSETFROM:+0100
TZOFFSETTO:+0200
TZNAME:CEST
DTSTART:20250330T010000
END:DAYLIGHT
BEGIN:STANDARD
TZOFFSETFROM:+0200
TZOFFSETTO:+0100
TZNAME:CET
DTSTART:20251026T010000
END:STANDARD
BEGIN:DAYLIGHT
TZOFFSETFROM:+0100
TZOFFSETTO:+0200
TZNAME:CEST
DTSTART:20260329T010000
END:DAYLIGHT
BEGIN:STANDARD
TZOFFSETFROM:+0200
TZOFFSETTO:+0100
TZNAME:CET
DTSTART:20261025T010000
END:STANDARD
BEGIN:DAYLIGHT
TZOFFSETFROM:+0100
TZOFFSETTO:+0200
TZNAME:CEST
DTSTART:20270328T010000
END:DAYLIGHT
BEGIN:STANDARD
TZOFFSETFROM:+0200
TZOFFSETTO:+0100
TZNAME:CET
DTSTART:20271031T010000
END:STANDARD
END:VTIMEZONE
BEGIN:VEVENT
DTSTART;TZID=Europe/Amsterdam:20260109T130000
DTEND;TZID=Europe/Amsterdam:20260306T153000
DTSTAMP:20260421T182303
CREATED:20250913T153354Z
LAST-MODIFIED:20260106T100304Z
UID:18457-1767963600-1772811000@www.lakshmi.nl
SUMMARY:Chakraleer: Ontdek\, Groei en Integreer – Online Webinarreeks + Live Trainingsdag
DESCRIPTION:Chakraleer: Ontdek\, Groei en Integreer – Online Webinarreeks + Live Trainingsdag \nDeze opleiding neemt je mee op een spirituele\, helende en energieke reis door de zeven chakra’s. Ze is ontworpen om je persoonlijke kracht\, balans en professionele vaardigheden als holistische behandelaar te versterken. Je leert inzichten die je zowel voor jezelf als in je werk met cliënten kunt toepassen. \nWaarom deze opleiding belangrijk is \nNaast praktische vaardigheden in energetische en ayurvedische behandelingen\, is het essentieel om theoretische kennis en zelfontwikkeling te blijven volgen. Veel behandelingen vereisen inzicht in psychosomatische klachten en het omgaan met de emoties van verschillende cliënten. Deze opleiding helpt je: \n\nJezelf beter te leren kennen en je persoonlijke balans te versterken\nInzicht te krijgen in de unieke kwaliteiten van de 7 chakra’s\nEmoties van cliënten bewust aan te voelen en hier professioneel op te reageren\nSamen te werken en ervaringen te delen met andere professionals\nJe kennis bewust te integreren in je dagelijkse praktijk en salonrituelen\n\nOpbouw van de opleiding \n\n9 lessen in totaal: 8 online webinars en 1 live groepsles\nLive les: bij onze trainingslocatie in Oostmalle\nOnline lessen: iedere vrijdag van 13u tot 15u\, inclusief opname beschikbaar voor wie een keer niet kan deelnemen\n\nData en inhoud van de lessen \n\n\n\nDatum\nLesonderwerp\nFormaat\n\n\n\n\n09 januari 2026\nDe Kosha’s\nOnline webinar\n\n\n16 januari 2026\nBasischakra\nOnline webinar\n\n\n23 januari 2026\nSacraalchakra\nOnline webinar\n\n\n30 januari 2026\nZonnevlechtchakra\nOnline webinar\n\n\n06 februari 2026\nHartchakra\nOnline webinar\n\n\n13 februari 2026\nKeelchakra\nOnline webinar\n\n\n20 februari 2026\nDerde oogchakra\nOnline webinar\n\n\n27 februari 2026\nKruinchakra\nOnline webinar\n\n\n06 maart 2026\nEnergetische zuivering\, Chakratest\, Meditatie\, Kinesiologie\nLive groepsles\, 13u–17u\n\n\n\n 
URL:https://www.lakshmi.nl/training/chakraleer-ontdek-groei-en-integreer-online-webinarreeks-live-trainingsdag/
LOCATION:LakShmi Trainingslocatie Oostmalle\, Talondreef 50\, Oostmalle\, Antwerpen\, 2390\, Belgium
ATTACH;FMTTYPE=image/jpeg:https://www.lakshmi.nl/wp-content/uploads/2025/09/Chakraleer-2026-4.jpg
ORGANIZER;CN="Lakshmi":MAILTO:info@lakshmi.nl
END:VEVENT
END:VCALENDAR