BEGIN:VCALENDAR
VERSION:2.0
PRODID:-//Lakshmi - ECPv6.15.20//NONSGML v1.0//EN
CALSCALE:GREGORIAN
METHOD:PUBLISH
X-ORIGINAL-URL:https://www.lakshmi.nl
X-WR-CALDESC:Evenementen voor Lakshmi
REFRESH-INTERVAL;VALUE=DURATION:PT1H
X-Robots-Tag:noindex
X-PUBLISHED-TTL:PT1H
BEGIN:VTIMEZONE
TZID:Europe/Amsterdam
BEGIN:DAYLIGHT
TZOFFSETFROM:+0100
TZOFFSETTO:+0200
TZNAME:CEST
DTSTART:20240331T010000
END:DAYLIGHT
BEGIN:STANDARD
TZOFFSETFROM:+0200
TZOFFSETTO:+0100
TZNAME:CET
DTSTART:20241027T010000
END:STANDARD
BEGIN:DAYLIGHT
TZOFFSETFROM:+0100
TZOFFSETTO:+0200
TZNAME:CEST
DTSTART:20250330T010000
END:DAYLIGHT
BEGIN:STANDARD
TZOFFSETFROM:+0200
TZOFFSETTO:+0100
TZNAME:CET
DTSTART:20251026T010000
END:STANDARD
BEGIN:DAYLIGHT
TZOFFSETFROM:+0100
TZOFFSETTO:+0200
TZNAME:CEST
DTSTART:20260329T010000
END:DAYLIGHT
BEGIN:STANDARD
TZOFFSETFROM:+0200
TZOFFSETTO:+0100
TZNAME:CET
DTSTART:20261025T010000
END:STANDARD
END:VTIMEZONE
BEGIN:VEVENT
DTSTART;TZID=Europe/Amsterdam:20250927T080000
DTEND;TZID=Europe/Amsterdam:20251231T170000
DTSTAMP:20260423T050316
CREATED:20250927T070345Z
LAST-MODIFIED:20251015T094959Z
UID:18604-1758960000-1767200400@www.lakshmi.nl
SUMMARY:Udara & Garshan Dren – Essence of Balance (online)
DESCRIPTION:Ontdek de unieke kracht van de LakShmi Udara en Garshan Dren behandeling: een diepe reis naar balans\, vitaliteit en harmonie. Deze combinatiebehandeling ondersteunt het lichaam bij het afvoeren van afvalstoffen\, activeert de circulatie en werkt intensief op het buikgebied voor meer lichtheid en welzijn. \nMet de Essence of Balance training leer je stap voor stap hoe je deze transformerende behandeling kunt aanbieden in jouw salon of praktijk. \nWat ontvang je?\nWanneer je in de webshop voor € 250\,- aan Udara & Garshan producten aankoopt\, krijg je de volledige online training gratis. \nPlaats eenvoudig deze training in je winkelmandje aan € 0\,01  en ontvang: \n\n\nWerkmapje met uitleg over de producten \n\n\nStappenplan van de behandeling\, helder uitgeschreven \n\nVideolink van de volledige praktijkbehandeling\n\n\n🌸 Voor wie?\nDeze training is exclusief voor LakShmi Professionals die hun kennis willen verdiepen en hun klanten willen verrassen met een krachtige\, natuurlijke en holistische behandeling. \nJouw voordeel\n\n\nDirect toepasbare kennis in jouw praktijk \n\n\nExtra expertise en meerwaarde voor jouw klanten \n\n\nGratis toegang tot de training bij aankoop van producten \n\n\nOndersteuning van het LakShmi-team voor jouw groei als professional \n\n\n\nBestel vandaag nog je producten in de webshop\, voeg de Essence of Balance training toe aan je winkelmand en ervaar zelf de kracht van LakShmi. \nCreëer balans. Breng energie. Geef jouw klanten het mooiste cadeau: welzijn van binnenuit.
URL:https://www.lakshmi.nl/training/udara-garshan-dren-essence-of-balance-online/
LOCATION:Antwerpen
ATTACH;FMTTYPE=image/jpeg:https://www.lakshmi.nl/wp-content/uploads/2025/09/3.jpg
ORGANIZER;CN="Lakshmi":MAILTO:info@lakshmi.nl
END:VEVENT
END:VCALENDAR